BEGIN:VCALENDAR
VERSION:2.0
PRODID:-//Bismarckschule - ECPv6.15.20//NONSGML v1.0//EN
CALSCALE:GREGORIAN
METHOD:PUBLISH
X-WR-CALNAME:Bismarckschule
X-ORIGINAL-URL:https://www.bismarckschule.de
X-WR-CALDESC:Veranstaltungen für Bismarckschule
REFRESH-INTERVAL;VALUE=DURATION:PT1H
X-Robots-Tag:noindex
X-PUBLISHED-TTL:PT1H
BEGIN:VTIMEZONE
TZID:Europe/Berlin
BEGIN:DAYLIGHT
TZOFFSETFROM:+0100
TZOFFSETTO:+0200
TZNAME:CEST
DTSTART:20240331T010000
END:DAYLIGHT
BEGIN:STANDARD
TZOFFSETFROM:+0200
TZOFFSETTO:+0100
TZNAME:CET
DTSTART:20241027T010000
END:STANDARD
BEGIN:DAYLIGHT
TZOFFSETFROM:+0100
TZOFFSETTO:+0200
TZNAME:CEST
DTSTART:20250330T010000
END:DAYLIGHT
BEGIN:STANDARD
TZOFFSETFROM:+0200
TZOFFSETTO:+0100
TZNAME:CET
DTSTART:20251026T010000
END:STANDARD
BEGIN:DAYLIGHT
TZOFFSETFROM:+0100
TZOFFSETTO:+0200
TZNAME:CEST
DTSTART:20260329T010000
END:DAYLIGHT
BEGIN:STANDARD
TZOFFSETFROM:+0200
TZOFFSETTO:+0100
TZNAME:CET
DTSTART:20261025T010000
END:STANDARD
END:VTIMEZONE
BEGIN:VEVENT
DTSTART;VALUE=DATE:20250319
DTEND;VALUE=DATE:20250321
DTSTAMP:20260420T120916
CREATED:20250518T131223Z
LAST-MODIFIED:20250518T152847Z
UID:14596-1742342400-1742515199@www.bismarckschule.de
SUMMARY:Schnuppertage 2025
DESCRIPTION:Liebe Viertklässlerinnen und Viertklässler!\n\n \n\nHabt Ihr Lust\, schon einmal die gute „Bismarckluft“ zu schnuppern? Mögt Ihr sehen\, was wir Euch im Unterricht anbieten und was Ihr bei uns lernen könnt? Dann meldet Euch gerne zu den Schnuppertagen an!\n\n \n\nUnsere Schnuppertage finden am 19.03.2025 und 20.03.2025 statt. Genauere Informationen gibt es nach der Anmeldung. Anmeldungen bitte an Johannes Begemann per Mail: johannes.begemann@bismarckschule.eu\n\n \n\nWir freuen uns auf Euch!
URL:https://www.bismarckschule.de/event/schnuppertage-2025-am-19-03-und-20-03/
CATEGORIES:Infoveranstaltung
ATTACH;FMTTYPE=image/jpeg:https://www.bismarckschule.de/wp-content/uploads/2024/09/IMG_2455-scaled.webp
END:VEVENT
END:VCALENDAR