BEGIN:VCALENDAR
VERSION:2.0
PRODID:-//Bismarckschule - ECPv6.15.20//NONSGML v1.0//EN
CALSCALE:GREGORIAN
METHOD:PUBLISH
X-WR-CALNAME:Bismarckschule
X-ORIGINAL-URL:https://www.bismarckschule.de
X-WR-CALDESC:Veranstaltungen für Bismarckschule
REFRESH-INTERVAL;VALUE=DURATION:PT1H
X-Robots-Tag:noindex
X-PUBLISHED-TTL:PT1H
BEGIN:VTIMEZONE
TZID:Europe/Berlin
BEGIN:DAYLIGHT
TZOFFSETFROM:+0100
TZOFFSETTO:+0200
TZNAME:CEST
DTSTART:20240331T010000
END:DAYLIGHT
BEGIN:STANDARD
TZOFFSETFROM:+0200
TZOFFSETTO:+0100
TZNAME:CET
DTSTART:20241027T010000
END:STANDARD
BEGIN:DAYLIGHT
TZOFFSETFROM:+0100
TZOFFSETTO:+0200
TZNAME:CEST
DTSTART:20250330T010000
END:DAYLIGHT
BEGIN:STANDARD
TZOFFSETFROM:+0200
TZOFFSETTO:+0100
TZNAME:CET
DTSTART:20251026T010000
END:STANDARD
BEGIN:DAYLIGHT
TZOFFSETFROM:+0100
TZOFFSETTO:+0200
TZNAME:CEST
DTSTART:20260329T010000
END:DAYLIGHT
BEGIN:STANDARD
TZOFFSETFROM:+0200
TZOFFSETTO:+0100
TZNAME:CET
DTSTART:20261025T010000
END:STANDARD
END:VTIMEZONE
BEGIN:VEVENT
DTSTART;TZID=Europe/Berlin:20250627T170000
DTEND;TZID=Europe/Berlin:20250627T200000
DTSTAMP:20260424T102022
CREATED:20250608T120030Z
LAST-MODIFIED:20250706T104241Z
UID:14731-1751043600-1751054400@www.bismarckschule.de
SUMMARY:Abi-Entlassung
DESCRIPTION:Um 17 Uhr findet die feierliche Entlassung des Abiturjahrgangs 2025 im Pavillon hinter dem Bahnhof statt. Bericht: https://www.bismarckschule.de/2025/07/02/bismarckschule-in-6-kapiteln-oder-herzlichen-glueckwunsch-zum-abitur/ \nDer Abi-Ball folgt einen Tag darauf\, am 28.06. im Star Event Center am Alten Flughafen statt.
URL:https://www.bismarckschule.de/event/abi-entlassung-am-27-juni/
LOCATION:Kulturzentrum Pavillon\, Lister Meile 4\, Hannover\, Niedersachsen\, 30161
END:VEVENT
END:VCALENDAR